BEGIN:VCALENDAR
VERSION:2.0
PRODID:-//Zukunftsstadt.de - ECPv5.14.2.1//NONSGML v1.0//EN
CALSCALE:GREGORIAN
METHOD:PUBLISH
X-WR-CALNAME:Zukunftsstadt.de
X-ORIGINAL-URL:https://zukunftsstadt.de
X-WR-CALDESC:Veranstaltungen für Zukunftsstadt.de
BEGIN:VTIMEZONE
TZID:UTC
BEGIN:STANDARD
TZOFFSETFROM:+0000
TZOFFSETTO:+0000
TZNAME:UTC
DTSTART:20190101T000000
END:STANDARD
END:VTIMEZONE
BEGIN:VEVENT
DTSTART;VALUE=DATE:20191203
DTEND;VALUE=DATE:20191205
DTSTAMP:20260425T132114
CREATED:20191019T152249Z
LAST-MODIFIED:20191019T153545Z
UID:318-1575331200-1575503999@zukunftsstadt.de
SUMMARY:Regiogeld auf den RENN.Tagen
DESCRIPTION:RENN steht für „Regionale Netzstellen Nachhaltigkeitsstrategien“. Vier solcher vom Bund finanzierte Netzstellen gibt es: dafür hat sich der Rat für Nachhaltige Entwicklung eingesetzt. Ihre Aufgabe: Nachhaltigkeitsakteure vernetzen. Im Dezember gibt es ein größeres Netzwerktreffen in Berlin. Vier Themenforen wird es geben: Nachhaltigkeit in Unternehmen\, Postwachstumsökonomie\, Nachhaltige Veranstaltungen und Soziale Gerechtigkeit innerhalb der planetaren Grenzen. \nIch bin eingeladen als Gesprächspartner im Forum „Postwachstumsökonomie“\, als Vertreter des Elbtalers\, unseres Regiogeld-Projekts in Dresden. \nDie Teilnehmerzahl ist begrenzt. Interessierte müssen sich auf der Veranstalterwebseite für eine Teilnahme bewerben. \n \n\nDie Workshopankündigung: \n\n\n\n\nPostwachstumsökonomie: Nischenprodukt oder künftiger Mainstream? \nGreen economy allein reicht nicht aus\, solange wirtschaftliche Entwicklung und Wohlstand vorranging durch materiellen Ressourcenverbrauch bestimmt ist. Unser Planet hat materielle Grenzen aber keine ideellen\, um sich vom materiellen Wachstum ab- und ideellem Wachstum zuzuwenden. Ist eine Annäherung zwischen den Erwartungen der Initiativen und den Anforderungen von Unternehmen möglich? Wer sind die geborenen Partner dafür? Was sind die Rahmenbedingungen? Gute Beispiele und sichtbare Barrieren sollen gleicher Maßen zu Wort kommen. \nTeil 1: Statusdiskurs zu Konzepten der Postwachstumsökonomie\, inkl. Bericht von der Konferenz „Great Transformation: Die Zukunft moderner Gesellschaften“ \nTeil 2: Praktische Umsetzung der Konzepte: Akteure und Herausforderungen
URL:https://zukunftsstadt.de/event/regiogeld-auf-den-renn-tagen
LOCATION:FORUMFACTORY\, Berlin\, Besselstraße 13\, Berlin\, 10969
END:VEVENT
END:VCALENDAR