BEGIN:VCALENDAR
VERSION:2.0
PRODID:-//Zukunftsstadt.de - ECPv5.14.2.1//NONSGML v1.0//EN
CALSCALE:GREGORIAN
METHOD:PUBLISH
X-WR-CALNAME:Zukunftsstadt.de
X-ORIGINAL-URL:https://zukunftsstadt.de
X-WR-CALDESC:Veranstaltungen für Zukunftsstadt.de
BEGIN:VTIMEZONE
TZID:UTC
BEGIN:STANDARD
TZOFFSETFROM:+0000
TZOFFSETTO:+0000
TZNAME:UTC
DTSTART:20220101T000000
END:STANDARD
END:VTIMEZONE
BEGIN:VEVENT
DTSTART;TZID=UTC:20220615T160000
DTEND;TZID=UTC:20220615T170000
DTSTAMP:20260422T162719
CREATED:20220427T122233Z
LAST-MODIFIED:20220520T095647Z
UID:774-1655308800-1655312400@zukunftsstadt.de
SUMMARY:Die Digitale Projektfabrik in kommunalen Strategien
DESCRIPTION:Die Digitale Projektfabrik erleichtert die Einbeziehung von Bürger- und Unternehmerschaft in die Umsetzung kommunaler Strategien. Klimaschutz-\, Nachhaltigkeits-\, Innenstadt-\, Smart-City-oder andere Strategien können durch Projekte aus der Bürgerschaft aufgewertet und beschleunigt werden.\n  \n\nWie funktioniert die Projektfabrik?\nWie läßt sie sich für die Strategieumsetzung einsetzen?\nWelche Erfahrungen mit solcherart Beteiligungsverfahren liegen vor?\n\nWir stellen die Plattform vor und diskutieren diese und weitere Fragen:\n  \n15.06.2022\, 16:00 – 17:00 Uhr\nin einer Zoom-Videokonferenz\n  \nJetzt anmelden und Zugangsdaten erhalten!\n  \nDiese digitale Veranstaltung richtet sich insbesondere an Mitarbeiterinnen und Mitarbeiter kommunaler Verwaltungen\, die mit Bürgerbeteiligungsprozessen\, Klimaschutz und Nachhaltigkeit oder Strategieentwicklung befasst sind\, sowie Beratungsagenturen\, die Kommunen bei diesen Aufgaben unterstützen.
URL:https://zukunftsstadt.de/event/die-digitale-projektfabrik-in-kommunalen-strategien
LOCATION:Online/Videokonferenz
END:VEVENT
END:VCALENDAR